BEGIN:VCALENDAR
VERSION:2.0
PRODID:-//D. J. Quinn&#039;s the place for live music and sport - ECPv6.8.3//NONSGML v1.0//EN
CALSCALE:GREGORIAN
METHOD:PUBLISH
X-WR-CALNAME:D. J. Quinn&#039;s the place for live music and sport
X-ORIGINAL-URL:https://djquinns.com
X-WR-CALDESC:Events for D. J. Quinn&#039;s the place for live music and sport
REFRESH-INTERVAL;VALUE=DURATION:PT1H
X-Robots-Tag:noindex
X-PUBLISHED-TTL:PT1H
BEGIN:VTIMEZONE
TZID:Europe/London
BEGIN:DAYLIGHT
TZOFFSETFROM:+0000
TZOFFSETTO:+0100
TZNAME:BST
DTSTART:20230326T010000
END:DAYLIGHT
BEGIN:STANDARD
TZOFFSETFROM:+0100
TZOFFSETTO:+0000
TZNAME:GMT
DTSTART:20231029T010000
END:STANDARD
END:VTIMEZONE
BEGIN:VEVENT
DTSTART;TZID=Europe/London:20230909T203000
DTEND;TZID=Europe/London:20230910T203000
DTSTAMP:20260426T045831
CREATED:20230904T095019Z
LAST-MODIFIED:20230904T095019Z
UID:4861-1694291400-1694377800@djquinns.com
SUMMARY:Live Music this Weekend at D.J. Quinn's
DESCRIPTION:Live Music this Weekend at D.J. Quinn’s\n\nBang On The Ear | Saturday 9th September | 8:30PM\n\nSean Kenwrick | Sunday 10th September | 6:30PM\n\nFREE ENTRY!
URL:https://djquinns.com/event/live-music-this-weekend-at-d-j-quinns-6/
LOCATION:D.J. Quinn’s\, 327 Highfield Rd\, Birmingham\, West Midlands\, B28 0BX\, United Kingdom
ATTACH;FMTTYPE=image/png:https://djquinns.com/wp-content/uploads/2023/09/Live-Music-square-99.png
END:VEVENT
BEGIN:VEVENT
DTSTART;TZID=Europe/London:20230909T143000
DTEND;TZID=Europe/London:20230909T143000
DTSTAMP:20260426T045831
CREATED:20230825T123553Z
LAST-MODIFIED:20230825T123553Z
UID:4842-1694269800-1694269800@djquinns.com
SUMMARY:IRE v ROM - Rugby World Cup 23
DESCRIPTION:Ireland v Romania – 230PM\nRugby World Cup 2023\nFREE ENTRY
URL:https://djquinns.com/event/ire-v-rom-rugby-world-cup-23/
LOCATION:D.J. Quinn’s\, 327 Highfield Rd\, Birmingham\, West Midlands\, B28 0BX\, United Kingdom
ATTACH;FMTTYPE=image/png:https://djquinns.com/wp-content/uploads/2023/08/IRE-v-ROM-BAN.png
END:VEVENT
BEGIN:VEVENT
DTSTART;TZID=Europe/London:20230902T203000
DTEND;TZID=Europe/London:20230903T203000
DTSTAMP:20260426T045831
CREATED:20230829T091335Z
LAST-MODIFIED:20230829T091335Z
UID:4855-1693686600-1693773000@djquinns.com
SUMMARY:Live Music this Weekend at D.J. Quinn's
DESCRIPTION:Live Music this Weekend at D.J. Quinn’s\n\nWild Irish | Saturday 2nd September | 8:30PM\n\nShindig | Sunday 3rd September | 6:30PM\n\nFREE ENTRY!
URL:https://djquinns.com/event/live-music-this-weekend-at-d-j-quinns-5/
LOCATION:D.J. Quinn’s\, 327 Highfield Rd\, Birmingham\, West Midlands\, B28 0BX\, United Kingdom
ATTACH;FMTTYPE=image/png:https://djquinns.com/wp-content/uploads/2023/08/Live-Music-square-0209.png
END:VEVENT
BEGIN:VEVENT
DTSTART;TZID=Europe/London:20230901T200000
DTEND;TZID=Europe/London:20230903T190000
DTSTAMP:20260426T045831
CREATED:20230829T091712Z
LAST-MODIFIED:20230829T091712Z
UID:4858-1693598400-1693767600@djquinns.com
SUMMARY:Live Football this Weekend at D.J. Quinn's
DESCRIPTION:Live Football this Weekend at D.J. Quinn’s\n\nGames shown across our 6 big screens at the bar..\n\nFREE ENTRY!
URL:https://djquinns.com/event/live-football-this-weekend-at-d-j-quinns/
LOCATION:D.J. Quinn’s\, 327 Highfield Rd\, Birmingham\, West Midlands\, B28 0BX\, United Kingdom
ATTACH;FMTTYPE=image/png:https://djquinns.com/wp-content/uploads/2023/08/Football-0109-Square2.png
END:VEVENT
BEGIN:VEVENT
DTSTART;TZID=Europe/London:20230826T203000
DTEND;TZID=Europe/London:20230827T230000
DTSTAMP:20260426T045831
CREATED:20230821T092408Z
LAST-MODIFIED:20230821T092408Z
UID:4836-1693081800-1693177200@djquinns.com
SUMMARY:Live Music this Weekend at D.J. Quinn's
DESCRIPTION:SATURDAY\nJack Banting from 8:30pm\n\nSUNDAY\nJohn Kiernan from 8:30pm\n\nFREE ENTRY! 
URL:https://djquinns.com/event/live-music-this-weekend-at-d-j-quinns-4/
LOCATION:D.J. Quinn’s\, 327 Highfield Rd\, Birmingham\, West Midlands\, B28 0BX\, United Kingdom
ATTACH;FMTTYPE=image/png:https://djquinns.com/wp-content/uploads/2023/08/Live-Music-square-2608.png
END:VEVENT
BEGIN:VEVENT
DTSTART;TZID=Europe/London:20230821T200000
DTEND;TZID=Europe/London:20230827T200000
DTSTAMP:20260426T045831
CREATED:20230821T092537Z
LAST-MODIFIED:20230821T092537Z
UID:4839-1692648000-1693166400@djquinns.com
SUMMARY:Live Football This Week at D.J. Quinn's
DESCRIPTION:The Premier League is back!\n\nCatch all the action live at D.J. Quinn’s this week..\n\nFREE ENTRY!
URL:https://djquinns.com/event/live-football-this-week-at-d-j-quinns-6/
LOCATION:D.J. Quinn’s\, 327 Highfield Rd\, Birmingham\, West Midlands\, B28 0BX\, United Kingdom
ATTACH;FMTTYPE=image/png:https://djquinns.com/wp-content/uploads/2023/08/Football-Square-2108.png
END:VEVENT
BEGIN:VEVENT
DTSTART;TZID=Europe/London:20230819T203000
DTEND;TZID=Europe/London:20230820T203000
DTSTAMP:20260426T045831
CREATED:20230816T094441Z
LAST-MODIFIED:20230816T094441Z
UID:4829-1692477000-1692563400@djquinns.com
SUMMARY:Live Music this Weekend at D.J. Quinn's
DESCRIPTION:SATURDAY\nGasoline & Matches from 8:30pm\n\nSUNDAY\nThe Wedding Crashers from 6:30pm\n\nFREE ENTRY! 
URL:https://djquinns.com/event/live-music-this-weekend-at-d-j-quinns-3/
LOCATION:D.J. Quinn’s\, 327 Highfield Rd\, Birmingham\, West Midlands\, B28 0BX\, United Kingdom
ATTACH;FMTTYPE=image/png:https://djquinns.com/wp-content/uploads/2023/08/Live-Music-square-19082.png
END:VEVENT
BEGIN:VEVENT
DTSTART;TZID=Europe/London:20230818T193000
DTEND;TZID=Europe/London:20230820T193000
DTSTAMP:20260426T045831
CREATED:20230816T094610Z
LAST-MODIFIED:20230816T094610Z
UID:4832-1692387000-1692559800@djquinns.com
SUMMARY:Live Football This Week at D.J. Quinn's
DESCRIPTION:The Premier League is back!\n\nCatch all the action live at D.J. Quinn’s this week..\n\nFREE ENTRY!
URL:https://djquinns.com/event/live-football-this-week-at-d-j-quinns-5/
LOCATION:D.J. Quinn’s\, 327 Highfield Rd\, Birmingham\, West Midlands\, B28 0BX\, United Kingdom
ATTACH;FMTTYPE=image/png:https://djquinns.com/wp-content/uploads/2023/08/Football-Square-18082.png
END:VEVENT
BEGIN:VEVENT
DTSTART;TZID=Europe/London:20230811T200000
DTEND;TZID=Europe/London:20230811T200000
DTSTAMP:20260426T045831
CREATED:20230807T145808Z
LAST-MODIFIED:20230807T145808Z
UID:4812-1691784000-1691784000@djquinns.com
SUMMARY:Live Football This Week at D.J. Quinn's
DESCRIPTION:The Premier League is back!\n\nCatch all the action live at D.J. Quinn’s this week..\n\nFREE ENTRY!
URL:https://djquinns.com/event/live-football-this-week-at-d-j-quinns-4/
LOCATION:D.J. Quinn’s\, 327 Highfield Rd\, Birmingham\, West Midlands\, B28 0BX\, United Kingdom
ATTACH;FMTTYPE=image/png:https://djquinns.com/wp-content/uploads/2023/08/Football-Template-Square.png
END:VEVENT
BEGIN:VEVENT
DTSTART;TZID=Europe/London:20230805T200000
DTEND;TZID=Europe/London:20230805T200000
DTSTAMP:20260426T045831
CREATED:20230731T135855Z
LAST-MODIFIED:20230731T135855Z
UID:4808-1691265600-1691265600@djquinns.com
SUMMARY:IRELAND v ITALY - Bank of Ireland Nations Series
DESCRIPTION:Ireland face Italy in the World Cup warm-ups for the Bank of Ireland Nations Series \n\nCheer on the bhoys at 8pm on Saturday whilst live music begins half an hour after kick-off!\n\nFREE ENTRY 
URL:https://djquinns.com/event/ireland-v-italy-bank-of-ireland-nations-series/
LOCATION:D.J. Quinn’s\, 327 Highfield Rd\, Birmingham\, West Midlands\, B28 0BX\, United Kingdom
ATTACH;FMTTYPE=image/png:https://djquinns.com/wp-content/uploads/2023/07/ire-v-ita-Square.png
END:VEVENT
BEGIN:VEVENT
DTSTART;TZID=Europe/London:20230730T153000
DTEND;TZID=Europe/London:20230730T180000
DTSTAMP:20260426T045831
CREATED:20230724T093143Z
LAST-MODIFIED:20230724T093143Z
UID:4801-1690731000-1690740000@djquinns.com
SUMMARY:Dublin v Kerry - GAA All Ireland Football Final
DESCRIPTION:This Weekend at D.J. Quinn’s..\n\nThe GAA All Ireland Senior Football Final commences with Dublin v Kerry at 3:30pm\n\nFREE ENTRY
URL:https://djquinns.com/event/dublin-v-kerry-gaa-all-ireland-football-final/
LOCATION:D.J. Quinn’s\, 327 Highfield Rd\, Birmingham\, West Midlands\, B28 0BX\, United Kingdom
ATTACH;FMTTYPE=image/png:https://djquinns.com/wp-content/uploads/2023/07/GAA-3007-banner.png
END:VEVENT
BEGIN:VEVENT
DTSTART;TZID=Europe/London:20230729T203000
DTEND;TZID=Europe/London:20230729T203000
DTSTAMP:20260426T045831
CREATED:20230724T094539Z
LAST-MODIFIED:20230724T094539Z
UID:4804-1690662600-1690662600@djquinns.com
SUMMARY:Jack Banting live at D.J. Quinn's
DESCRIPTION:This Saturday at 8:30pm \n  \nJack Banting Live at D.J. Quinn’s \n  \nFREE ENTRY
URL:https://djquinns.com/event/jack-banting-live-at-d-j-quinns-3/
LOCATION:D.J. Quinn’s\, 327 Highfield Rd\, Birmingham\, West Midlands\, B28 0BX\, United Kingdom
ATTACH;FMTTYPE=image/jpeg:https://djquinns.com/wp-content/uploads/2023/07/Live-Music-2907-banner.jpg
END:VEVENT
BEGIN:VEVENT
DTSTART;TZID=Europe/London:20230723T183000
DTEND;TZID=Europe/London:20230723T183000
DTSTAMP:20260426T045831
CREATED:20230718T083456Z
LAST-MODIFIED:20230718T083456Z
UID:4798-1690137000-1690137000@djquinns.com
SUMMARY:Gasoline & Matches Live at D.J. Quinn's
DESCRIPTION:Gasoline & Matches Live at D.J. Quinn’s\n\nThis Sunday\n\nFREE ENTRY
URL:https://djquinns.com/event/gasoline-matches-live-at-d-j-quinns-5/
LOCATION:D.J. Quinn’s\, 327 Highfield Rd\, Birmingham\, West Midlands\, B28 0BX\, United Kingdom
ATTACH;FMTTYPE=image/png:https://djquinns.com/wp-content/uploads/2023/07/Live-Music-2307-square.png
END:VEVENT
BEGIN:VEVENT
DTSTART;TZID=Europe/London:20230723T153000
DTEND;TZID=Europe/London:20230723T153000
DTSTAMP:20260426T045831
CREATED:20230718T081820Z
LAST-MODIFIED:20230718T081820Z
UID:4795-1690126200-1690126200@djquinns.com
SUMMARY:Kilkenny v Limerick - All-Ireland Hurling Senior Championship Final
DESCRIPTION:GAA Hurling All-Ireland Senior Championship – Final this Weekend live at D.J. Quinn’s.\n\nSunday 23rd July – 3:30pm\n\nFREE ENTRY
URL:https://djquinns.com/event/kilkenny-v-limerick-all-ireland-hurling-senior-championship-final/
LOCATION:D.J. Quinn’s\, 327 Highfield Rd\, Birmingham\, West Midlands\, B28 0BX\, United Kingdom
ATTACH;FMTTYPE=image/png:https://djquinns.com/wp-content/uploads/2023/07/GAA-2307-banner.png
END:VEVENT
BEGIN:VEVENT
DTSTART;TZID=Europe/London:20230716T183000
DTEND;TZID=Europe/London:20230716T183000
DTSTAMP:20260426T045831
CREATED:20230703T105220Z
LAST-MODIFIED:20230703T105220Z
UID:4788-1689532200-1689532200@djquinns.com
SUMMARY:Sean Kenwrick Live
DESCRIPTION:Sean Kenwrick Live at D.J. Quinn’s \n  \nSaturday 16th July \n  \nFREE ENTRY
URL:https://djquinns.com/event/sean-kenwrick-live-3/
LOCATION:D.J. Quinn’s\, 327 Highfield Rd\, Birmingham\, West Midlands\, B28 0BX\, United Kingdom
ATTACH;FMTTYPE=image/png:https://djquinns.com/wp-content/uploads/2023/07/Live-Music-Square-1607.png
END:VEVENT
BEGIN:VEVENT
DTSTART;TZID=Europe/London:20230715T203000
DTEND;TZID=Europe/London:20230715T203000
DTSTAMP:20260426T045831
CREATED:20230703T105050Z
LAST-MODIFIED:20230703T105050Z
UID:4785-1689453000-1689453000@djquinns.com
SUMMARY:Bang On The Ear Live
DESCRIPTION:Bang On The Ear Live at D.J. Quinn’s \n  \nSaturday 15th July \n  \nFREE ENTRY
URL:https://djquinns.com/event/bang-on-the-ear-live-4/
LOCATION:D.J. Quinn’s\, 327 Highfield Rd\, Birmingham\, West Midlands\, B28 0BX\, United Kingdom
ATTACH;FMTTYPE=image/png:https://djquinns.com/wp-content/uploads/2023/07/Live-Music-Square-1507.png
END:VEVENT
BEGIN:VEVENT
DTSTART;TZID=Europe/London:20230715T150000
DTEND;TZID=Europe/London:20230716T190000
DTSTAMP:20260426T045831
CREATED:20230710T103335Z
LAST-MODIFIED:20230710T103335Z
UID:4791-1689433200-1689534000@djquinns.com
SUMMARY:GAA This Weekend at D.J. Quinn's
DESCRIPTION:Live GAA This Weekend at D.J. Quinn’s\n\nFREE ENTRY
URL:https://djquinns.com/event/gaa-this-weekend-at-d-j-quinns-2/
LOCATION:D.J. Quinn’s\, 327 Highfield Rd\, Birmingham\, West Midlands\, B28 0BX\, United Kingdom
ATTACH;FMTTYPE=image/png:https://djquinns.com/wp-content/uploads/2023/07/GAA-15.07-SQUARE.png
END:VEVENT
BEGIN:VEVENT
DTSTART;TZID=Europe/London:20230708T203000
DTEND;TZID=Europe/London:20230708T203000
DTSTAMP:20260426T045831
CREATED:20230703T103549Z
LAST-MODIFIED:20230703T103549Z
UID:4782-1688848200-1688848200@djquinns.com
SUMMARY:On The Sesh Live at D.J. Quinn's
DESCRIPTION:On The Sesh Live\n\nThis Saturday from 8:30pm at D.J. Quinn’s\n\nFREE ENTRY
URL:https://djquinns.com/event/on-the-sesh-live-at-d-j-quinns-3/
LOCATION:D.J. Quinn’s\, 327 Highfield Rd\, Birmingham\, West Midlands\, B28 0BX\, United Kingdom
ATTACH;FMTTYPE=image/png:https://djquinns.com/wp-content/uploads/2023/07/Live-Music-Square-0807.png
END:VEVENT
BEGIN:VEVENT
DTSTART;TZID=Europe/London:20230708T160000
DTEND;TZID=Europe/London:20230709T200000
DTSTAMP:20260426T045831
CREATED:20230703T102020Z
LAST-MODIFIED:20230703T102020Z
UID:4779-1688832000-1688932800@djquinns.com
SUMMARY:Live GAA this Weekend at D.J. Quinn's
DESCRIPTION:Join us this weekend at D.J Quinn’s for more live GAA including the Hurling All-Ireland Senior Championship Semi-Finals & the All-Ireland Minor Championship Final..\n\nFREE ENTRY!
URL:https://djquinns.com/event/live-gaa-this-weekend-at-d-j-quinns-2/
LOCATION:D.J. Quinn’s\, 327 Highfield Rd\, Birmingham\, West Midlands\, B28 0BX\, United Kingdom
ATTACH;FMTTYPE=image/png:https://djquinns.com/wp-content/uploads/2023/07/GAA-Banner-0707.png
END:VEVENT
BEGIN:VEVENT
DTSTART;VALUE=DATE:20230701
DTEND;VALUE=DATE:20230704
DTSTAMP:20260426T045831
CREATED:20230626T101451Z
LAST-MODIFIED:20230627T102943Z
UID:4758-1688169600-1688428799@djquinns.com
SUMMARY:Live All Ireland Quarter Finals at D.J. Quinn's
DESCRIPTION:The GAA All-Ireland Senior Championship Quarter-Finals begin this weekend!\n\nWatch live only at D.J. Quinns..\n\nFREE ENTRY
URL:https://djquinns.com/event/live-all-ireland-quarter-finals-at-d-j-quinns/
LOCATION:D.J. Quinn’s\, 327 Highfield Rd\, Birmingham\, West Midlands\, B28 0BX\, United Kingdom
ATTACH;FMTTYPE=image/png:https://djquinns.com/wp-content/uploads/2023/06/GAA-BANNER-0107-1.png
END:VEVENT
BEGIN:VEVENT
DTSTART;VALUE=DATE:20230625
DTEND;VALUE=DATE:20230626
DTSTAMP:20260426T045831
CREATED:20230621T155111Z
LAST-MODIFIED:20230621T155111Z
UID:4752-1687651200-1687737599@djquinns.com
SUMMARY:GAA This Sunday at D.J. Quinn's
DESCRIPTION:Live GAA This Sunday at D.J. Quinn’s\nFREE ENTRY
URL:https://djquinns.com/event/gaa-this-sunday-at-d-j-quinns/
LOCATION:D.J. Quinn’s\, 327 Highfield Rd\, Birmingham\, West Midlands\, B28 0BX\, United Kingdom
ATTACH;FMTTYPE=image/jpeg:https://djquinns.com/wp-content/uploads/2023/06/GAA.-Square-Sun-25th-scaled.jpg
END:VEVENT
BEGIN:VEVENT
DTSTART;TZID=Europe/London:20230624T203000
DTEND;TZID=Europe/London:20230625T210000
DTSTAMP:20260426T045831
CREATED:20230619T130429Z
LAST-MODIFIED:20230619T130429Z
UID:4748-1687638600-1687726800@djquinns.com
SUMMARY:Live Music This Weekend at D.J. Quinn's
DESCRIPTION:Live Music This Weekend at D.J. Quinn’s:\n\nGasoline & Matches – Saturday at 8:30PM\n\nThe Wedding Crashers – Sunday at 6:30PM\n\nFREE ENTRY!
URL:https://djquinns.com/event/live-music-this-weekend-at-d-j-quinns-2/
LOCATION:D.J. Quinn’s\, 327 Highfield Rd\, Birmingham\, West Midlands\, B28 0BX\, United Kingdom
ATTACH;FMTTYPE=image/jpeg:https://djquinns.com/wp-content/uploads/2023/06/Live-Music-Banner-2406.jpg
END:VEVENT
BEGIN:VEVENT
DTSTART;VALUE=DATE:20230624
DTEND;VALUE=DATE:20230625
DTSTAMP:20260426T045831
CREATED:20230621T155203Z
LAST-MODIFIED:20230621T155203Z
UID:4755-1687564800-1687651199@djquinns.com
SUMMARY:GAA This Saturday at D.J. Quinn's
DESCRIPTION:Live GAA This Saturday at D.J. Quinn’s\nFREE ENTRY
URL:https://djquinns.com/event/gaa-this-saturday-at-d-j-quinns/
LOCATION:West Midlands
ATTACH;FMTTYPE=image/jpeg:https://djquinns.com/wp-content/uploads/2023/06/GAA.-Square-Sat-24th-scaled.jpg
END:VEVENT
BEGIN:VEVENT
DTSTART;TZID=Europe/London:20230618T130000
DTEND;TZID=Europe/London:20230618T190000
DTSTAMP:20260426T045831
CREATED:20230613T140143Z
LAST-MODIFIED:20230613T140143Z
UID:4741-1687093200-1687114800@djquinns.com
SUMMARY:GAA This Sunday
DESCRIPTION:LIVE GAA at D.J. Quinn’s \nThis Sunday \nFREE ENTRY
URL:https://djquinns.com/event/gaa-this-sunday/
LOCATION:West Midlands
ATTACH;FMTTYPE=image/png:https://djquinns.com/wp-content/uploads/2023/06/GAA-SQ-1806.png
END:VEVENT
BEGIN:VEVENT
DTSTART;TZID=Europe/London:20230617T203000
DTEND;TZID=Europe/London:20230618T203000
DTSTAMP:20260426T045831
CREATED:20230613T143025Z
LAST-MODIFIED:20230613T143025Z
UID:4745-1687033800-1687120200@djquinns.com
SUMMARY:Live Music This Weekend at D.J. Quinn's
DESCRIPTION:Live Music This Weekend at D.J. Quinn’s\n\nPart Time Cover – Saturday @ 8:30PM\n\nKel & Jez – Sunday @ 6:30PM\n\nFREE ENTRY
URL:https://djquinns.com/event/live-music-this-weekend-at-d-j-quinns/
LOCATION:D.J. Quinn’s\, 327 Highfield Rd\, Birmingham\, West Midlands\, B28 0BX\, United Kingdom
ATTACH;FMTTYPE=image/jpeg:https://djquinns.com/wp-content/uploads/2023/06/Live-Music-Banner-1706.jpg
END:VEVENT
BEGIN:VEVENT
DTSTART;TZID=Europe/London:20230617T150000
DTEND;TZID=Europe/London:20230617T180000
DTSTAMP:20260426T045831
CREATED:20230613T135003Z
LAST-MODIFIED:20230613T140235Z
UID:4738-1687014000-1687024800@djquinns.com
SUMMARY:GAA This Saturday
DESCRIPTION:LIVE GAA at D.J. Quinn’s \nThis Saturday \nFREE ENTRY
URL:https://djquinns.com/event/gaa-this-saturday/
LOCATION:West Midlands
ATTACH;FMTTYPE=image/png:https://djquinns.com/wp-content/uploads/2023/06/GAA-SQ-1706.png
END:VEVENT
BEGIN:VEVENT
DTSTART;TZID=Europe/London:20230611T183000
DTEND;TZID=Europe/London:20230611T183000
DTSTAMP:20260426T045831
CREATED:20230523T093938Z
LAST-MODIFIED:20230523T093938Z
UID:4699-1686508200-1686508200@djquinns.com
SUMMARY:Faye Bagley Live at D.J. Quinn's
DESCRIPTION:Faye Bagley Live\nJune 11th – 6:30pm at D.J. Quinn’s\nFREE ENTRY
URL:https://djquinns.com/event/faye-bagley-live-at-d-j-quinns-4/
LOCATION:D.J. Quinn’s\, 327 Highfield Rd\, Birmingham\, West Midlands\, B28 0BX\, United Kingdom
ATTACH;FMTTYPE=image/jpeg:https://djquinns.com/wp-content/uploads/2023/05/Live-Music-Event-Banner-1106.jpg
END:VEVENT
BEGIN:VEVENT
DTSTART;TZID=Europe/London:20230611T133000
DTEND;TZID=Europe/London:20230611T180000
DTSTAMP:20260426T045831
CREATED:20230605T102734Z
LAST-MODIFIED:20230605T102734Z
UID:4704-1686490200-1686506400@djquinns.com
SUMMARY:Sunday GAA at D.J. Quinn's
DESCRIPTION:Live GAA Finals this Sunday live at D.J. Quinn’s\n\nFREE ENTRY
URL:https://djquinns.com/event/sunday-gaa-at-d-j-quinns/
LOCATION:D.J. Quinn’s\, 327 Highfield Rd\, Birmingham\, West Midlands\, B28 0BX\, United Kingdom
ATTACH;FMTTYPE=image/png:https://djquinns.com/wp-content/uploads/2023/06/GAA-SQUARE-1106.png
END:VEVENT
BEGIN:VEVENT
DTSTART;TZID=Europe/London:20230610T203000
DTEND;TZID=Europe/London:20230610T203000
DTSTAMP:20260426T045831
CREATED:20230523T093729Z
LAST-MODIFIED:20230523T093729Z
UID:4696-1686429000-1686429000@djquinns.com
SUMMARY:Swim With Sharks Live at D.J. Quinn's
DESCRIPTION:Swim With Sharks Live\n10th June – 8:30pm at D.J. Quinn’s\nFREE ENTRY
URL:https://djquinns.com/event/swim-with-sharks-live-at-d-j-quinns-2/
LOCATION:D.J. Quinn’s\, 327 Highfield Rd\, Birmingham\, West Midlands\, B28 0BX\, United Kingdom
ATTACH;FMTTYPE=image/jpeg:https://djquinns.com/wp-content/uploads/2023/05/Live-Music-Event-Banner-1006.jpg
END:VEVENT
BEGIN:VEVENT
DTSTART;TZID=Europe/London:20230610T200000
DTEND;TZID=Europe/London:20230610T200000
DTSTAMP:20260426T045831
CREATED:20230523T092049Z
LAST-MODIFIED:20230523T092049Z
UID:4686-1686427200-1686427200@djquinns.com
SUMMARY:Manchester City v Inter - Champions League Final Live at D.J. Quinn's
DESCRIPTION:Manchester City v Inter\n\nChampions League Final Live at D.J. Quinn’s\n\n8pm – June 10th
URL:https://djquinns.com/event/manchester-city-v-inter-champions-league-final-live-at-d-j-quinns/
LOCATION:D.J. Quinn’s\, 327 Highfield Rd\, Birmingham\, West Midlands\, B28 0BX\, United Kingdom
ATTACH;FMTTYPE=image/jpeg:https://djquinns.com/wp-content/uploads/2023/05/DJQ-UCL-SQUARE.jpg
END:VEVENT
END:VCALENDAR